BEGIN:VCALENDAR
VERSION:2.0
PRODID:-//FPBU USIM - ECPv4.6.19//NONSGML v1.0//EN
CALSCALE:GREGORIAN
METHOD:PUBLISH
X-WR-CALNAME:FPBU USIM
X-ORIGINAL-URL:https://fpbu.usim.edu.my
X-WR-CALDESC:Events for FPBU USIM
BEGIN:VEVENT
DTSTART;TZID=Asia/Kuala_Lumpur:20231220T080000
DTEND;TZID=Asia/Kuala_Lumpur:20231220T170000
DTSTAMP:20260424T065847
CREATED:20231204T050726Z
LAST-MODIFIED:20231204T050726Z
UID:5725-1703059200-1703091600@fpbu.usim.edu.my
SUMMARY:BENGKEL PENULISAN - MENGAPA SAYA MESTI KONSISTEN MENULIS?
DESCRIPTION: \n
URL:https://fpbu.usim.edu.my/kalendar/bengkel-penulisan-mengapa-saya-mesti-konsisten-menulis/
CATEGORIES:Staff
END:VEVENT
END:VCALENDAR